BEGIN:VCALENDAR
VERSION:2.0
PRODID:-//Boswell Events - ECPv6.8.3//NONSGML v1.0//EN
CALSCALE:GREGORIAN
METHOD:PUBLISH
X-WR-CALNAME:Boswell Events
X-ORIGINAL-URL:https://www.boswellevents.com
X-WR-CALDESC:Events for Boswell Events
REFRESH-INTERVAL;VALUE=DURATION:PT1H
X-Robots-Tag:noindex
X-PUBLISHED-TTL:PT1H
BEGIN:VTIMEZONE
TZID:UTC
BEGIN:STANDARD
TZOFFSETFROM:+0000
TZOFFSETTO:+0000
TZNAME:UTC
DTSTART:20250101T000000
END:STANDARD
END:VTIMEZONE
BEGIN:VEVENT
DTSTART;TZID=UTC:20250902T173000
DTEND;TZID=UTC:20250902T220000
DTSTAMP:20260419T220443
CREATED:20170807T152612Z
LAST-MODIFIED:20170807T152612Z
UID:7949-1756834200-1756850400@www.boswellevents.com
SUMMARY:Bingo
DESCRIPTION:
URL:https://www.boswellevents.com/event/bingo-2025-09-02/
CATEGORIES:Bingo,Cardinal Room
ATTACH;FMTTYPE=image/png:https://www.boswellevents.com/wp-content/uploads/2018/02/bingo_t_png-1.png
END:VEVENT
BEGIN:VEVENT
DTSTART;TZID=UTC:20250909T173000
DTEND;TZID=UTC:20250909T220000
DTSTAMP:20260419T220443
CREATED:20170807T152612Z
LAST-MODIFIED:20170807T152612Z
UID:7952-1757439000-1757455200@www.boswellevents.com
SUMMARY:Bingo
DESCRIPTION:
URL:https://www.boswellevents.com/event/bingo-2024-01-16-2025-09-09/
LOCATION:6111 Columbian Way\, Bowie\, 20715\, United States
CATEGORIES:Bingo,Cardinal Room
ATTACH;FMTTYPE=image/png:https://www.boswellevents.com/wp-content/uploads/2018/02/bingo_t_png-1.png
END:VEVENT
END:VCALENDAR