BEGIN:VCALENDAR
VERSION:2.0
PRODID:-//Boswell Events - ECPv6.8.3//NONSGML v1.0//EN
CALSCALE:GREGORIAN
METHOD:PUBLISH
X-ORIGINAL-URL:https://www.boswellevents.com
X-WR-CALDESC:Events for Boswell Events
REFRESH-INTERVAL;VALUE=DURATION:PT1H
X-Robots-Tag:noindex
X-PUBLISHED-TTL:PT1H
BEGIN:VTIMEZONE
TZID:UTC
BEGIN:STANDARD
TZOFFSETFROM:+0000
TZOFFSETTO:+0000
TZNAME:UTC
DTSTART:20230101T000000
END:STANDARD
END:VTIMEZONE
BEGIN:VEVENT
DTSTART;TZID=UTC:20230801T173000
DTEND;TZID=UTC:20230801T220000
DTSTAMP:20260425T122534
CREATED:20170807T152612Z
LAST-MODIFIED:20170807T152612Z
UID:7745-1690911000-1690927200@www.boswellevents.com
SUMMARY:Bingo
DESCRIPTION:
URL:https://www.boswellevents.com/event/bingo-2024-01-16-2023-08-01/
LOCATION:6111 Columbian Way\, Bowie\, 20715\, United States
CATEGORIES:Bingo,Cardinal Room
ATTACH;FMTTYPE=image/png:https://www.boswellevents.com/wp-content/uploads/2018/02/bingo_t_png-1.png
END:VEVENT
BEGIN:VEVENT
DTSTART;TZID=UTC:20230801T173000
DTEND;TZID=UTC:20230801T220000
DTSTAMP:20260425T122534
CREATED:20170807T152612Z
LAST-MODIFIED:20170807T152612Z
UID:7464-1690911000-1690927200@www.boswellevents.com
SUMMARY:Bingo
DESCRIPTION:
URL:https://www.boswellevents.com/event/bingo-2023-08-01/
CATEGORIES:Bingo,Cardinal Room
ATTACH;FMTTYPE=image/png:https://www.boswellevents.com/wp-content/uploads/2018/02/bingo_t_png-1.png
END:VEVENT
BEGIN:VEVENT
DTSTART;TZID=UTC:20230808T173000
DTEND;TZID=UTC:20230808T220000
DTSTAMP:20260425T122534
CREATED:20170807T152612Z
LAST-MODIFIED:20170807T152612Z
UID:7466-1691515800-1691532000@www.boswellevents.com
SUMMARY:Bingo
DESCRIPTION:
URL:https://www.boswellevents.com/event/bingo-2023-08-08/
CATEGORIES:Bingo,Cardinal Room
ATTACH;FMTTYPE=image/png:https://www.boswellevents.com/wp-content/uploads/2018/02/bingo_t_png-1.png
END:VEVENT
BEGIN:VEVENT
DTSTART;TZID=UTC:20230808T173000
DTEND;TZID=UTC:20230808T220000
DTSTAMP:20260425T122534
CREATED:20170807T152612Z
LAST-MODIFIED:20170807T152612Z
UID:7746-1691515800-1691532000@www.boswellevents.com
SUMMARY:Bingo
DESCRIPTION:
URL:https://www.boswellevents.com/event/bingo-2024-01-16-2023-08-08/
LOCATION:6111 Columbian Way\, Bowie\, 20715\, United States
CATEGORIES:Bingo,Cardinal Room
ATTACH;FMTTYPE=image/png:https://www.boswellevents.com/wp-content/uploads/2018/02/bingo_t_png-1.png
END:VEVENT
BEGIN:VEVENT
DTSTART;TZID=UTC:20230815T173000
DTEND;TZID=UTC:20230815T220000
DTSTAMP:20260425T122534
CREATED:20170807T152612Z
LAST-MODIFIED:20170807T152612Z
UID:7468-1692120600-1692136800@www.boswellevents.com
SUMMARY:Bingo
DESCRIPTION:
URL:https://www.boswellevents.com/event/bingo-2023-08-15/
CATEGORIES:Bingo,Cardinal Room
ATTACH;FMTTYPE=image/png:https://www.boswellevents.com/wp-content/uploads/2018/02/bingo_t_png-1.png
END:VEVENT
BEGIN:VEVENT
DTSTART;TZID=UTC:20230815T173000
DTEND;TZID=UTC:20230815T220000
DTSTAMP:20260425T122534
CREATED:20170807T152612Z
LAST-MODIFIED:20170807T152612Z
UID:7747-1692120600-1692136800@www.boswellevents.com
SUMMARY:Bingo
DESCRIPTION:
URL:https://www.boswellevents.com/event/bingo-2024-01-16-2023-08-15/
LOCATION:6111 Columbian Way\, Bowie\, 20715\, United States
CATEGORIES:Bingo,Cardinal Room
ATTACH;FMTTYPE=image/png:https://www.boswellevents.com/wp-content/uploads/2018/02/bingo_t_png-1.png
END:VEVENT
BEGIN:VEVENT
DTSTART;TZID=UTC:20230822T173000
DTEND;TZID=UTC:20230822T220000
DTSTAMP:20260425T122534
CREATED:20170807T152612Z
LAST-MODIFIED:20170807T152612Z
UID:7470-1692725400-1692741600@www.boswellevents.com
SUMMARY:Bingo
DESCRIPTION:
URL:https://www.boswellevents.com/event/bingo-2023-08-22/
CATEGORIES:Bingo,Cardinal Room
ATTACH;FMTTYPE=image/png:https://www.boswellevents.com/wp-content/uploads/2018/02/bingo_t_png-1.png
END:VEVENT
BEGIN:VEVENT
DTSTART;TZID=UTC:20230822T173000
DTEND;TZID=UTC:20230822T220000
DTSTAMP:20260425T122534
CREATED:20170807T152612Z
LAST-MODIFIED:20170807T152612Z
UID:7748-1692725400-1692741600@www.boswellevents.com
SUMMARY:Bingo
DESCRIPTION:
URL:https://www.boswellevents.com/event/bingo-2024-01-16-2023-08-22/
LOCATION:6111 Columbian Way\, Bowie\, 20715\, United States
CATEGORIES:Bingo,Cardinal Room
ATTACH;FMTTYPE=image/png:https://www.boswellevents.com/wp-content/uploads/2018/02/bingo_t_png-1.png
END:VEVENT
BEGIN:VEVENT
DTSTART;TZID=UTC:20230829T173000
DTEND;TZID=UTC:20230829T220000
DTSTAMP:20260425T122534
CREATED:20170807T152612Z
LAST-MODIFIED:20170807T152612Z
UID:7749-1693330200-1693346400@www.boswellevents.com
SUMMARY:Bingo
DESCRIPTION:
URL:https://www.boswellevents.com/event/bingo-2024-01-16-2023-08-29/
LOCATION:6111 Columbian Way\, Bowie\, 20715\, United States
CATEGORIES:Bingo,Cardinal Room
ATTACH;FMTTYPE=image/png:https://www.boswellevents.com/wp-content/uploads/2018/02/bingo_t_png-1.png
END:VEVENT
BEGIN:VEVENT
DTSTART;TZID=UTC:20230829T173000
DTEND;TZID=UTC:20230829T220000
DTSTAMP:20260425T122534
CREATED:20170807T152612Z
LAST-MODIFIED:20170807T152612Z
UID:7480-1693330200-1693346400@www.boswellevents.com
SUMMARY:Bingo
DESCRIPTION:
URL:https://www.boswellevents.com/event/bingo-2023-08-29/
CATEGORIES:Bingo,Cardinal Room
ATTACH;FMTTYPE=image/png:https://www.boswellevents.com/wp-content/uploads/2018/02/bingo_t_png-1.png
END:VEVENT
END:VCALENDAR