BEGIN:VCALENDAR
VERSION:2.0
PRODID:-//Boswell Events - ECPv6.8.3//NONSGML v1.0//EN
CALSCALE:GREGORIAN
METHOD:PUBLISH
X-WR-CALNAME:Boswell Events
X-ORIGINAL-URL:https://www.boswellevents.com
X-WR-CALDESC:Events for Boswell Events
REFRESH-INTERVAL;VALUE=DURATION:PT1H
X-Robots-Tag:noindex
X-PUBLISHED-TTL:PT1H
BEGIN:VTIMEZONE
TZID:UTC
BEGIN:STANDARD
TZOFFSETFROM:+0000
TZOFFSETTO:+0000
TZNAME:UTC
DTSTART:20240101T000000
END:STANDARD
END:VTIMEZONE
BEGIN:VEVENT
DTSTART;TZID=UTC:20240102T173000
DTEND;TZID=UTC:20240102T220000
DTSTAMP:20260425T061824
CREATED:20170807T152612Z
LAST-MODIFIED:20170807T152612Z
UID:7516-1704216600-1704232800@www.boswellevents.com
SUMMARY:Bingo
DESCRIPTION:
URL:https://www.boswellevents.com/event/bingo-2024-01-02/
CATEGORIES:Bingo,Cardinal Room
ATTACH;FMTTYPE=image/png:https://www.boswellevents.com/wp-content/uploads/2018/02/bingo_t_png-1.png
END:VEVENT
BEGIN:VEVENT
DTSTART;TZID=UTC:20240102T173000
DTEND;TZID=UTC:20240102T220000
DTSTAMP:20260425T061824
CREATED:20170807T152612Z
LAST-MODIFIED:20170807T152612Z
UID:7768-1704216600-1704232800@www.boswellevents.com
SUMMARY:Bingo
DESCRIPTION:
URL:https://www.boswellevents.com/event/bingo-2024-01-16-2024-01-02/
LOCATION:6111 Columbian Way\, Bowie\, 20715\, United States
CATEGORIES:Bingo,Cardinal Room
ATTACH;FMTTYPE=image/png:https://www.boswellevents.com/wp-content/uploads/2018/02/bingo_t_png-1.png
END:VEVENT
BEGIN:VEVENT
DTSTART;TZID=UTC:20240109T173000
DTEND;TZID=UTC:20240109T220000
DTSTAMP:20260425T061824
CREATED:20170807T152612Z
LAST-MODIFIED:20170807T152612Z
UID:7518-1704821400-1704837600@www.boswellevents.com
SUMMARY:Bingo
DESCRIPTION:
URL:https://www.boswellevents.com/event/bingo-2024-01-09/
CATEGORIES:Bingo,Cardinal Room
ATTACH;FMTTYPE=image/png:https://www.boswellevents.com/wp-content/uploads/2018/02/bingo_t_png-1.png
END:VEVENT
BEGIN:VEVENT
DTSTART;TZID=UTC:20240109T173000
DTEND;TZID=UTC:20240109T220000
DTSTAMP:20260425T061824
CREATED:20170807T152612Z
LAST-MODIFIED:20170807T152612Z
UID:7769-1704821400-1704837600@www.boswellevents.com
SUMMARY:Bingo
DESCRIPTION:
URL:https://www.boswellevents.com/event/bingo-2024-01-16-2024-01-09/
LOCATION:6111 Columbian Way\, Bowie\, 20715\, United States
CATEGORIES:Bingo,Cardinal Room
ATTACH;FMTTYPE=image/png:https://www.boswellevents.com/wp-content/uploads/2018/02/bingo_t_png-1.png
END:VEVENT
BEGIN:VEVENT
DTSTART;TZID=UTC:20240116T173000
DTEND;TZID=UTC:20240116T220000
DTSTAMP:20260425T061824
CREATED:20170807T152612Z
LAST-MODIFIED:20170807T152612Z
UID:7770-1705426200-1705442400@www.boswellevents.com
SUMMARY:Bingo
DESCRIPTION:
URL:https://www.boswellevents.com/event/bingo-2024-01-16-2024-01-16/
LOCATION:6111 Columbian Way\, Bowie\, 20715\, United States
CATEGORIES:Bingo,Cardinal Room
ATTACH;FMTTYPE=image/png:https://www.boswellevents.com/wp-content/uploads/2018/02/bingo_t_png-1.png
END:VEVENT
BEGIN:VEVENT
DTSTART;TZID=UTC:20240123T173000
DTEND;TZID=UTC:20240123T220000
DTSTAMP:20260425T061824
CREATED:20170807T152612Z
LAST-MODIFIED:20170807T152612Z
UID:7771-1706031000-1706047200@www.boswellevents.com
SUMMARY:Bingo
DESCRIPTION:
URL:https://www.boswellevents.com/event/bingo-2024-01-23/
CATEGORIES:Bingo,Cardinal Room
ATTACH;FMTTYPE=image/png:https://www.boswellevents.com/wp-content/uploads/2018/02/bingo_t_png-1.png
END:VEVENT
BEGIN:VEVENT
DTSTART;TZID=UTC:20240123T173000
DTEND;TZID=UTC:20240123T220000
DTSTAMP:20260425T061824
CREATED:20170807T152612Z
LAST-MODIFIED:20170807T152612Z
UID:7773-1706031000-1706047200@www.boswellevents.com
SUMMARY:Bingo
DESCRIPTION:
URL:https://www.boswellevents.com/event/bingo-2024-01-16-2024-01-23/
LOCATION:6111 Columbian Way\, Bowie\, 20715\, United States
CATEGORIES:Bingo,Cardinal Room
ATTACH;FMTTYPE=image/png:https://www.boswellevents.com/wp-content/uploads/2018/02/bingo_t_png-1.png
END:VEVENT
BEGIN:VEVENT
DTSTART;TZID=UTC:20240130T173000
DTEND;TZID=UTC:20240130T220000
DTSTAMP:20260425T061824
CREATED:20170807T152612Z
LAST-MODIFIED:20170807T152612Z
UID:7774-1706635800-1706652000@www.boswellevents.com
SUMMARY:Bingo
DESCRIPTION:
URL:https://www.boswellevents.com/event/bingo-2024-01-30/
CATEGORIES:Bingo,Cardinal Room
ATTACH;FMTTYPE=image/png:https://www.boswellevents.com/wp-content/uploads/2018/02/bingo_t_png-1.png
END:VEVENT
BEGIN:VEVENT
DTSTART;TZID=UTC:20240130T173000
DTEND;TZID=UTC:20240130T220000
DTSTAMP:20260425T061824
CREATED:20170807T152612Z
LAST-MODIFIED:20170807T152612Z
UID:7776-1706635800-1706652000@www.boswellevents.com
SUMMARY:Bingo
DESCRIPTION:
URL:https://www.boswellevents.com/event/bingo-2024-01-16-2024-01-30/
LOCATION:6111 Columbian Way\, Bowie\, 20715\, United States
CATEGORIES:Bingo,Cardinal Room
ATTACH;FMTTYPE=image/png:https://www.boswellevents.com/wp-content/uploads/2018/02/bingo_t_png-1.png
END:VEVENT
END:VCALENDAR