BEGIN:VCALENDAR
VERSION:2.0
PRODID:-//Boswell Events - ECPv6.8.3//NONSGML v1.0//EN
CALSCALE:GREGORIAN
METHOD:PUBLISH
X-WR-CALNAME:Boswell Events
X-ORIGINAL-URL:https://www.boswellevents.com
X-WR-CALDESC:Events for Boswell Events
REFRESH-INTERVAL;VALUE=DURATION:PT1H
X-Robots-Tag:noindex
X-PUBLISHED-TTL:PT1H
BEGIN:VTIMEZONE
TZID:UTC
BEGIN:STANDARD
TZOFFSETFROM:+0000
TZOFFSETTO:+0000
TZNAME:UTC
DTSTART:20240101T000000
END:STANDARD
END:VTIMEZONE
BEGIN:VEVENT
DTSTART;TZID=UTC:20240402T173000
DTEND;TZID=UTC:20240402T220000
DTSTAMP:20260423T140948
CREATED:20170807T152612Z
LAST-MODIFIED:20170807T152612Z
UID:7802-1712079000-1712095200@www.boswellevents.com
SUMMARY:Bingo
DESCRIPTION:
URL:https://www.boswellevents.com/event/bingo-2024-01-16-2024-04-02/
LOCATION:6111 Columbian Way\, Bowie\, 20715\, United States
CATEGORIES:Bingo,Cardinal Room
ATTACH;FMTTYPE=image/png:https://www.boswellevents.com/wp-content/uploads/2018/02/bingo_t_png-1.png
END:VEVENT
BEGIN:VEVENT
DTSTART;TZID=UTC:20240402T173000
DTEND;TZID=UTC:20240402T220000
DTSTAMP:20260423T140948
CREATED:20170807T152612Z
LAST-MODIFIED:20170807T152612Z
UID:7801-1712079000-1712095200@www.boswellevents.com
SUMMARY:Bingo
DESCRIPTION:
URL:https://www.boswellevents.com/event/bingo-2024-04-02/
CATEGORIES:Bingo,Cardinal Room
ATTACH;FMTTYPE=image/png:https://www.boswellevents.com/wp-content/uploads/2018/02/bingo_t_png-1.png
END:VEVENT
BEGIN:VEVENT
DTSTART;TZID=UTC:20240409T173000
DTEND;TZID=UTC:20240409T220000
DTSTAMP:20260423T140948
CREATED:20170807T152612Z
LAST-MODIFIED:20170807T152612Z
UID:7803-1712683800-1712700000@www.boswellevents.com
SUMMARY:Bingo
DESCRIPTION:
URL:https://www.boswellevents.com/event/bingo-2024-04-09/
CATEGORIES:Bingo,Cardinal Room
ATTACH;FMTTYPE=image/png:https://www.boswellevents.com/wp-content/uploads/2018/02/bingo_t_png-1.png
END:VEVENT
BEGIN:VEVENT
DTSTART;TZID=UTC:20240409T173000
DTEND;TZID=UTC:20240409T220000
DTSTAMP:20260423T140948
CREATED:20170807T152612Z
LAST-MODIFIED:20170807T152612Z
UID:7804-1712683800-1712700000@www.boswellevents.com
SUMMARY:Bingo
DESCRIPTION:
URL:https://www.boswellevents.com/event/bingo-2024-01-16-2024-04-09/
LOCATION:6111 Columbian Way\, Bowie\, 20715\, United States
CATEGORIES:Bingo,Cardinal Room
ATTACH;FMTTYPE=image/png:https://www.boswellevents.com/wp-content/uploads/2018/02/bingo_t_png-1.png
END:VEVENT
BEGIN:VEVENT
DTSTART;TZID=UTC:20240416T173000
DTEND;TZID=UTC:20240416T220000
DTSTAMP:20260423T140948
CREATED:20170807T152612Z
LAST-MODIFIED:20170807T152612Z
UID:7805-1713288600-1713304800@www.boswellevents.com
SUMMARY:Bingo
DESCRIPTION:
URL:https://www.boswellevents.com/event/bingo-2024-04-16/
CATEGORIES:Bingo,Cardinal Room
ATTACH;FMTTYPE=image/png:https://www.boswellevents.com/wp-content/uploads/2018/02/bingo_t_png-1.png
END:VEVENT
BEGIN:VEVENT
DTSTART;TZID=UTC:20240416T173000
DTEND;TZID=UTC:20240416T220000
DTSTAMP:20260423T140948
CREATED:20170807T152612Z
LAST-MODIFIED:20170807T152612Z
UID:7806-1713288600-1713304800@www.boswellevents.com
SUMMARY:Bingo
DESCRIPTION:
URL:https://www.boswellevents.com/event/bingo-2024-01-16-2024-04-16/
LOCATION:6111 Columbian Way\, Bowie\, 20715\, United States
CATEGORIES:Bingo,Cardinal Room
ATTACH;FMTTYPE=image/png:https://www.boswellevents.com/wp-content/uploads/2018/02/bingo_t_png-1.png
END:VEVENT
BEGIN:VEVENT
DTSTART;TZID=UTC:20240423T173000
DTEND;TZID=UTC:20240423T220000
DTSTAMP:20260423T140948
CREATED:20170807T152612Z
LAST-MODIFIED:20170807T152612Z
UID:7807-1713893400-1713909600@www.boswellevents.com
SUMMARY:Bingo
DESCRIPTION:
URL:https://www.boswellevents.com/event/bingo-2024-04-23/
CATEGORIES:Bingo,Cardinal Room
ATTACH;FMTTYPE=image/png:https://www.boswellevents.com/wp-content/uploads/2018/02/bingo_t_png-1.png
END:VEVENT
BEGIN:VEVENT
DTSTART;TZID=UTC:20240423T173000
DTEND;TZID=UTC:20240423T220000
DTSTAMP:20260423T140948
CREATED:20170807T152612Z
LAST-MODIFIED:20170807T152612Z
UID:7808-1713893400-1713909600@www.boswellevents.com
SUMMARY:Bingo
DESCRIPTION:
URL:https://www.boswellevents.com/event/bingo-2024-01-16-2024-04-23/
LOCATION:6111 Columbian Way\, Bowie\, 20715\, United States
CATEGORIES:Bingo,Cardinal Room
ATTACH;FMTTYPE=image/png:https://www.boswellevents.com/wp-content/uploads/2018/02/bingo_t_png-1.png
END:VEVENT
BEGIN:VEVENT
DTSTART;TZID=UTC:20240430T173000
DTEND;TZID=UTC:20240430T220000
DTSTAMP:20260423T140948
CREATED:20170807T152612Z
LAST-MODIFIED:20170807T152612Z
UID:7810-1714498200-1714514400@www.boswellevents.com
SUMMARY:Bingo
DESCRIPTION:
URL:https://www.boswellevents.com/event/bingo-2024-01-16-2024-04-30/
LOCATION:6111 Columbian Way\, Bowie\, 20715\, United States
CATEGORIES:Bingo,Cardinal Room
ATTACH;FMTTYPE=image/png:https://www.boswellevents.com/wp-content/uploads/2018/02/bingo_t_png-1.png
END:VEVENT
BEGIN:VEVENT
DTSTART;TZID=UTC:20240430T173000
DTEND;TZID=UTC:20240430T220000
DTSTAMP:20260423T140948
CREATED:20170807T152612Z
LAST-MODIFIED:20170807T152612Z
UID:7809-1714498200-1714514400@www.boswellevents.com
SUMMARY:Bingo
DESCRIPTION:
URL:https://www.boswellevents.com/event/bingo-2024-04-30/
CATEGORIES:Bingo,Cardinal Room
ATTACH;FMTTYPE=image/png:https://www.boswellevents.com/wp-content/uploads/2018/02/bingo_t_png-1.png
END:VEVENT
END:VCALENDAR