BEGIN:VCALENDAR
VERSION:2.0
PRODID:-//Boswell Events - ECPv6.8.3//NONSGML v1.0//EN
CALSCALE:GREGORIAN
METHOD:PUBLISH
X-ORIGINAL-URL:https://www.boswellevents.com
X-WR-CALDESC:Events for Boswell Events
REFRESH-INTERVAL;VALUE=DURATION:PT1H
X-Robots-Tag:noindex
X-PUBLISHED-TTL:PT1H
BEGIN:VTIMEZONE
TZID:UTC
BEGIN:STANDARD
TZOFFSETFROM:+0000
TZOFFSETTO:+0000
TZNAME:UTC
DTSTART:20240101T000000
END:STANDARD
END:VTIMEZONE
BEGIN:VEVENT
DTSTART;TZID=UTC:20240604T173000
DTEND;TZID=UTC:20240604T220000
DTSTAMP:20260423T114737
CREATED:20170807T152612Z
LAST-MODIFIED:20170807T152612Z
UID:7819-1717522200-1717538400@www.boswellevents.com
SUMMARY:Bingo
DESCRIPTION:
URL:https://www.boswellevents.com/event/bingo-2024-06-04/
CATEGORIES:Bingo,Cardinal Room
ATTACH;FMTTYPE=image/png:https://www.boswellevents.com/wp-content/uploads/2018/02/bingo_t_png-1.png
END:VEVENT
BEGIN:VEVENT
DTSTART;TZID=UTC:20240604T173000
DTEND;TZID=UTC:20240604T220000
DTSTAMP:20260423T114737
CREATED:20170807T152612Z
LAST-MODIFIED:20170807T152612Z
UID:7820-1717522200-1717538400@www.boswellevents.com
SUMMARY:Bingo
DESCRIPTION:
URL:https://www.boswellevents.com/event/bingo-2024-01-16-2024-06-04/
LOCATION:6111 Columbian Way\, Bowie\, 20715\, United States
CATEGORIES:Bingo,Cardinal Room
ATTACH;FMTTYPE=image/png:https://www.boswellevents.com/wp-content/uploads/2018/02/bingo_t_png-1.png
END:VEVENT
BEGIN:VEVENT
DTSTART;TZID=UTC:20240611T173000
DTEND;TZID=UTC:20240611T220000
DTSTAMP:20260423T114737
CREATED:20170807T152612Z
LAST-MODIFIED:20170807T152612Z
UID:7822-1718127000-1718143200@www.boswellevents.com
SUMMARY:Bingo
DESCRIPTION:
URL:https://www.boswellevents.com/event/bingo-2024-01-16-2024-06-11/
LOCATION:6111 Columbian Way\, Bowie\, 20715\, United States
CATEGORIES:Bingo,Cardinal Room
ATTACH;FMTTYPE=image/png:https://www.boswellevents.com/wp-content/uploads/2018/02/bingo_t_png-1.png
END:VEVENT
BEGIN:VEVENT
DTSTART;TZID=UTC:20240611T173000
DTEND;TZID=UTC:20240611T220000
DTSTAMP:20260423T114737
CREATED:20170807T152612Z
LAST-MODIFIED:20170807T152612Z
UID:7821-1718127000-1718143200@www.boswellevents.com
SUMMARY:Bingo
DESCRIPTION:
URL:https://www.boswellevents.com/event/bingo-2024-06-11/
CATEGORIES:Bingo,Cardinal Room
ATTACH;FMTTYPE=image/png:https://www.boswellevents.com/wp-content/uploads/2018/02/bingo_t_png-1.png
END:VEVENT
BEGIN:VEVENT
DTSTART;TZID=UTC:20240618T173000
DTEND;TZID=UTC:20240618T220000
DTSTAMP:20260423T114737
CREATED:20170807T152612Z
LAST-MODIFIED:20170807T152612Z
UID:7823-1718731800-1718748000@www.boswellevents.com
SUMMARY:Bingo
DESCRIPTION:
URL:https://www.boswellevents.com/event/bingo-2024-06-18/
CATEGORIES:Bingo,Cardinal Room
ATTACH;FMTTYPE=image/png:https://www.boswellevents.com/wp-content/uploads/2018/02/bingo_t_png-1.png
END:VEVENT
BEGIN:VEVENT
DTSTART;TZID=UTC:20240618T173000
DTEND;TZID=UTC:20240618T220000
DTSTAMP:20260423T114737
CREATED:20170807T152612Z
LAST-MODIFIED:20170807T152612Z
UID:7824-1718731800-1718748000@www.boswellevents.com
SUMMARY:Bingo
DESCRIPTION:
URL:https://www.boswellevents.com/event/bingo-2024-01-16-2024-06-18/
LOCATION:6111 Columbian Way\, Bowie\, 20715\, United States
CATEGORIES:Bingo,Cardinal Room
ATTACH;FMTTYPE=image/png:https://www.boswellevents.com/wp-content/uploads/2018/02/bingo_t_png-1.png
END:VEVENT
BEGIN:VEVENT
DTSTART;TZID=UTC:20240625T173000
DTEND;TZID=UTC:20240625T220000
DTSTAMP:20260423T114737
CREATED:20170807T152612Z
LAST-MODIFIED:20170807T152612Z
UID:7825-1719336600-1719352800@www.boswellevents.com
SUMMARY:Bingo
DESCRIPTION:
URL:https://www.boswellevents.com/event/bingo-2024-06-25/
CATEGORIES:Bingo,Cardinal Room
ATTACH;FMTTYPE=image/png:https://www.boswellevents.com/wp-content/uploads/2018/02/bingo_t_png-1.png
END:VEVENT
BEGIN:VEVENT
DTSTART;TZID=UTC:20240625T173000
DTEND;TZID=UTC:20240625T220000
DTSTAMP:20260423T114737
CREATED:20170807T152612Z
LAST-MODIFIED:20170807T152612Z
UID:7826-1719336600-1719352800@www.boswellevents.com
SUMMARY:Bingo
DESCRIPTION:
URL:https://www.boswellevents.com/event/bingo-2024-01-16-2024-06-25/
LOCATION:6111 Columbian Way\, Bowie\, 20715\, United States
CATEGORIES:Bingo,Cardinal Room
ATTACH;FMTTYPE=image/png:https://www.boswellevents.com/wp-content/uploads/2018/02/bingo_t_png-1.png
END:VEVENT
END:VCALENDAR